BEGIN:VCALENDAR
VERSION:2.0
PRODID:-//egrsf.org//NONSGML kigkonsult.se iCalcreator 2.30.10//
CALSCALE:GREGORIAN
METHOD:PUBLISH
UID:c177827f-bfe0-415f-9413-048a553d91c7
X-WR-CALDESC:
X-WR-RELCALID:3d5e0b32284dc13d2c030047f154f1f5
X-WR-TIMEZONE:America/New_York
BEGIN:VTIMEZONE
TZID:America/New_York
BEGIN:STANDARD
TZNAME:EST
DTSTART:20231105T020000
TZOFFSETFROM:-0400
TZOFFSETTO:-0500
RDATE:20241103T020000
RDATE:20251102T020000
END:STANDARD
BEGIN:DAYLIGHT
TZNAME:EDT
DTSTART:20240310T020000
TZOFFSETFROM:-0500
TZOFFSETTO:-0400
RDATE:20250309T020000
RDATE:20260308T020000
END:DAYLIGHT
END:VTIMEZONE
BEGIN:VEVENT
UID:c36c3ff0-335a-46a3-85ef-67865613d727
DTSTAMP:20260420T101846Z
DESCRIPTION:
DTSTART;TZID=America/New_York:20240911T083000
DTEND;TZID=America/New_York:20240911T093000
LOCATION:Woodcliff - West Conference
SUMMARY:EGRSF Exec Board Meeting
END:VEVENT
END:VCALENDAR
